BEGIN:VCALENDAR
VERSION:2.0
PRODID:-//Canadian Black Scientists - ECPv6.15.20//NONSGML v1.0//EN
CALSCALE:GREGORIAN
METHOD:PUBLISH
X-ORIGINAL-URL:https://blackscientists.ca
X-WR-CALDESC:Events for Canadian Black Scientists
REFRESH-INTERVAL;VALUE=DURATION:PT1H
X-Robots-Tag:noindex
X-PUBLISHED-TTL:PT1H
BEGIN:VTIMEZONE
TZID:America/Toronto
BEGIN:DAYLIGHT
TZOFFSETFROM:-0500
TZOFFSETTO:-0400
TZNAME:EDT
DTSTART:20230312T070000
END:DAYLIGHT
BEGIN:STANDARD
TZOFFSETFROM:-0400
TZOFFSETTO:-0500
TZNAME:EST
DTSTART:20231105T060000
END:STANDARD
BEGIN:DAYLIGHT
TZOFFSETFROM:-0500
TZOFFSETTO:-0400
TZNAME:EDT
DTSTART:20240310T070000
END:DAYLIGHT
BEGIN:STANDARD
TZOFFSETFROM:-0400
TZOFFSETTO:-0500
TZNAME:EST
DTSTART:20241103T060000
END:STANDARD
BEGIN:DAYLIGHT
TZOFFSETFROM:-0500
TZOFFSETTO:-0400
TZNAME:EDT
DTSTART:20250309T070000
END:DAYLIGHT
BEGIN:STANDARD
TZOFFSETFROM:-0400
TZOFFSETTO:-0500
TZNAME:EST
DTSTART:20251102T060000
END:STANDARD
END:VTIMEZONE
BEGIN:VEVENT
DTSTART;TZID=America/Toronto:20240730T073000
DTEND;TZID=America/Toronto:20240801T210000
DTSTAMP:20260420T192535
CREATED:20240321T133842Z
LAST-MODIFIED:20240730T013507Z
UID:3310-1722324600-1722546000@blackscientists.ca
SUMMARY:BE-STEMM 2024 |  EN-STIMM 2024
DESCRIPTION:Academic Program (English)    |   Le Programme académique (français)\nView the Abstracts HERE\nOnline & National Library & Public Archives Canada\nBibliothèque et Archives Canada et en ligne\nOttawa\, Ontario\nJuly 30 – August 1\, 2024 / 30 juillet – 1er août 2024\n  \n\nAt BE-STEMM 2024\, we extend our tradition of highlighting the importance of the arts\, intertwined with science. Our 2024 theme is Emancipating STEMM: Breaking Barriers and Fueling Innovation. Our theme was created with Ghanaian artist Kafui. \nAu EN-STIMM 2024\, nous prolongeons notre tradition de souligner l’importance des arts\, étroitement liés à la science. Notre thème pour 2024 est Émanciper les STIMM : briser les barrières et alimenter l’innovation. Notre thème a été créé avec l’artiste ghanéen Kafui. \n \nThe Canadian Black Scientists Network / Réseau Canadien des Scientifiques Noirs invite tous les participants de l’écosystème canadien de recherche et d’innovation à BESTEMM 2024\, la Conférence nationale pour l’excellence des Noirs en sciences\, technologies\, ingénierie\, mathématiques\, médecine et santé. \nThe Canadian Black Scientists Network / Réseau Canadien des Scientifiques Noirs Invites all participants in the Canadian Research & Innovation Ecosystem to BESTEMM 2024\, the National Conference for Black Excellence in Science Technology\, Engineering\, Mathematics\, Medicine and Health. \n  \n \n \nNetwork Host & Diamond Sponsor\n\n  \nPlatinum Sponsors\n  \n      \n  \n  \n 
URL:https://blackscientists.ca/be-stemm-event/2024-en-stimm/
LOCATION:National Library and Public Archives Canada\, 395 Wellington Street\, Ottawa\, ON\, K1A 0N4\, Canada
CATEGORIES:BE-STEMM 2024,National Virtual Conference
ATTACH;FMTTYPE=image/png:https://blackscientists.ca/wp-content/uploads/2024/07/AcademicProgram.png
END:VEVENT
END:VCALENDAR